Package: scTGIF Version: 1.23.0 Command: /Library/Frameworks/R.framework/Resources/bin/R CMD INSTALL scTGIF StartedAt: 2025-10-10 15:31:30 -0400 (Fri, 10 Oct 2025) EndedAt: 2025-10-10 15:32:19 -0400 (Fri, 10 Oct 2025) EllapsedTime: 48.6 seconds RetCode: 0 Status: OK