Package: scTGIF Version: 1.23.0 Command: rm -rf scTGIF.buildbin-libdir && mkdir scTGIF.buildbin-libdir && /Users/biocbuild/BBS/utils/build-universal.sh scTGIF_1.23.0.tar.gz /Library/Frameworks/R.framework/Resources/bin/R scTGIF.buildbin-libdir StartedAt: 2025-10-11 02:53:13 -0400 (Sat, 11 Oct 2025) EndedAt: 2025-10-11 02:54:06 -0400 (Sat, 11 Oct 2025) EllapsedTime: 53.1 seconds RetCode: 0 Status: OK PackageFile: scTGIF_1.23.0.tgz PackageFileSize: 2.031 MiB