Package: scShapes Version: 1.15.0 Command: /home/biocbuild/R/R/bin/R CMD INSTALL scShapes StartedAt: 2025-10-20 20:13:41 -0000 (Mon, 20 Oct 2025) EndedAt: 2025-10-20 20:14:04 -0000 (Mon, 20 Oct 2025) EllapsedTime: 23.1 seconds RetCode: 0 Status: OK