Package: scShapes Version: 1.15.0 Command: /home/biocbuild/R/R/bin/R CMD build --keep-empty-dirs --no-resave-data scShapes StartedAt: 2025-10-21 03:01:49 -0000 (Tue, 21 Oct 2025) EndedAt: 2025-10-21 03:03:34 -0000 (Tue, 21 Oct 2025) EllapsedTime: 105.0 seconds RetCode: 0 Status: OK PackageFile: scShapes_1.15.0.tar.gz PackageFileSize: 30.67 KiB