Package: scShapes Version: 1.15.0 Command: /home/biocbuild/bbs-3.22-bioc/R/bin/R CMD check --install=check:scShapes.install-out.txt --library=/home/biocbuild/bbs-3.22-bioc/R/site-library --timings scShapes_1.15.0.tar.gz StartedAt: 2025-10-06 04:11:27 -0400 (Mon, 06 Oct 2025) EndedAt: 2025-10-06 04:15:21 -0400 (Mon, 06 Oct 2025) EllapsedTime: 233.2 seconds RetCode: 0 Status: OK CheckDir: scShapes.Rcheck Warnings: 0