Package: scShapes Version: 1.17.0 Command: /home/biocbuild/bbs-3.23-bioc/R/bin/R CMD INSTALL scShapes StartedAt: 2025-11-07 15:05:38 -0500 (Fri, 07 Nov 2025) EndedAt: 2025-11-07 15:05:57 -0500 (Fri, 07 Nov 2025) EllapsedTime: 18.6 seconds RetCode: 0 Status: OK