Package: scShapes Version: 1.17.0 Command: /home/biocbuild/bbs-3.23-bioc/R/bin/R CMD check --install=check:scShapes.install-out.txt --library=/home/biocbuild/bbs-3.23-bioc/R/site-library --timings scShapes_1.17.0.tar.gz StartedAt: 2025-11-15 03:55:55 -0500 (Sat, 15 Nov 2025) EndedAt: 2025-11-15 03:59:50 -0500 (Sat, 15 Nov 2025) EllapsedTime: 234.2 seconds RetCode: 0 Status: OK CheckDir: scShapes.Rcheck Warnings: 0