Package: scShapes Version: 1.17.0 Command: /home/biocbuild/bbs-3.23-bioc/R/bin/R CMD build --keep-empty-dirs --no-resave-data scShapes StartedAt: 2025-11-07 19:55:03 -0500 (Fri, 07 Nov 2025) EndedAt: 2025-11-07 19:56:23 -0500 (Fri, 07 Nov 2025) EllapsedTime: 80.1 seconds RetCode: 0 Status: OK PackageFile: scShapes_1.17.0.tar.gz PackageFileSize: 30.1 KiB