Package: scRepertoire Version: 2.7.0 Command: /home/biocbuild/bbs-3.23-bioc/R/bin/R CMD INSTALL scRepertoire StartedAt: 2025-11-05 15:30:27 -0500 (Wed, 05 Nov 2025) EndedAt: 2025-11-05 15:31:20 -0500 (Wed, 05 Nov 2025) EllapsedTime: 53.4 seconds RetCode: 0 Status: OK