Package: scRepertoire Version: 2.7.0 Command: /home/biocbuild/bbs-3.23-bioc/R/bin/R CMD build --keep-empty-dirs --no-resave-data scRepertoire StartedAt: 2025-11-05 19:58:14 -0500 (Wed, 05 Nov 2025) EndedAt: 2025-11-05 20:01:36 -0500 (Wed, 05 Nov 2025) EllapsedTime: 201.2 seconds RetCode: 1 Status: ERROR PackageFile: None PackageFileSize: NA