Package: scRepertoire Version: 2.5.8 Command: /Library/Frameworks/R.framework/Resources/bin/R CMD INSTALL scRepertoire StartedAt: 2025-10-21 15:27:41 -0400 (Tue, 21 Oct 2025) EndedAt: 2025-10-21 15:28:53 -0400 (Tue, 21 Oct 2025) EllapsedTime: 71.6 seconds RetCode: 0 Status: OK