Package: scRepertoire Version: 2.5.8 Command: rm -rf scRepertoire.buildbin-libdir && mkdir scRepertoire.buildbin-libdir && /Users/biocbuild/BBS/utils/build-universal.sh scRepertoire_2.5.8.tar.gz /Library/Frameworks/R.framework/Resources/bin/R scRepertoire.buildbin-libdir StartedAt: 2025-10-22 02:47:55 -0400 (Wed, 22 Oct 2025) EndedAt: 2025-10-22 02:49:12 -0400 (Wed, 22 Oct 2025) EllapsedTime: 76.8 seconds RetCode: 0 Status: OK PackageFile: scRepertoire_2.5.8.tgz PackageFileSize: 11.06 MiB