Package: scRepertoire Version: 2.5.6 Command: /Library/Frameworks/R.framework/Resources/bin/R CMD INSTALL scRepertoire StartedAt: 2025-10-06 15:14:44 -0400 (Mon, 06 Oct 2025) EndedAt: 2025-10-06 15:15:03 -0400 (Mon, 06 Oct 2025) EllapsedTime: 19.8 seconds RetCode: 0 Status: OK