Package: scRepertoire Version: 2.5.6 Command: /Library/Frameworks/R.framework/Resources/bin/R CMD build --keep-empty-dirs --no-resave-data scRepertoire StartedAt: 2025-10-06 17:40:53 -0400 (Mon, 06 Oct 2025) EndedAt: 2025-10-06 17:42:57 -0400 (Mon, 06 Oct 2025) EllapsedTime: 123.3 seconds RetCode: 0 Status: OK PackageFile: scRepertoire_2.5.6.tar.gz PackageFileSize: 9.896 MiB