Package: scRepertoire Version: 2.5.6 Command: rm -rf scRepertoire.buildbin-libdir && mkdir scRepertoire.buildbin-libdir && /Users/biocbuild/BBS/utils/build-universal.sh scRepertoire_2.5.6.tar.gz /Library/Frameworks/R.framework/Resources/bin/R scRepertoire.buildbin-libdir StartedAt: 2025-10-06 23:00:03 -0400 (Mon, 06 Oct 2025) EndedAt: 2025-10-06 23:00:25 -0400 (Mon, 06 Oct 2025) EllapsedTime: 22.4 seconds RetCode: 0 Status: OK PackageFile: scRepertoire_2.5.6.tgz PackageFileSize: 11.07 MiB