Package: scRecover Version: 1.25.0 Command: /home/biocbuild/R/R/bin/R CMD INSTALL scRecover StartedAt: 2025-10-16 21:14:27 -0000 (Thu, 16 Oct 2025) EndedAt: 2025-10-16 21:15:35 -0000 (Thu, 16 Oct 2025) EllapsedTime: 67.8 seconds RetCode: 0 Status: OK