Package: scRecover Version: 1.25.0 Command: /home/biocbuild/R/R/bin/R CMD build --keep-empty-dirs --no-resave-data scRecover StartedAt: 2025-10-17 04:27:23 -0000 (Fri, 17 Oct 2025) EndedAt: 2025-10-17 04:29:42 -0000 (Fri, 17 Oct 2025) EllapsedTime: 139.0 seconds RetCode: 0 Status: OK PackageFile: scRecover_1.25.0.tar.gz PackageFileSize: 1.776 MiB