Package: scRecover Version: 1.25.0 Command: F:\biocbuild\bbs-3.22-bioc\R\bin\R.exe CMD INSTALL scRecover StartedAt: 2025-08-14 15:24:52 -0400 (Thu, 14 Aug 2025) EndedAt: 2025-08-14 15:25:33 -0400 (Thu, 14 Aug 2025) EllapsedTime: 41.5 seconds RetCode: 0 Status: OK