Package: scRecover Version: 1.25.0 Command: chmod a+r scRecover -R && F:\biocbuild\bbs-3.22-bioc\R\bin\R.exe CMD build --keep-empty-dirs --no-resave-data scRecover StartedAt: 2025-08-14 23:08:11 -0400 (Thu, 14 Aug 2025) EndedAt: 2025-08-14 23:10:39 -0400 (Thu, 14 Aug 2025) EllapsedTime: 148.8 seconds RetCode: 0 Status: OK PackageFile: scRecover_1.25.0.tar.gz PackageFileSize: 1.712 MiB