Package: scRecover Version: 1.25.0 Command: rm -rf scRecover.buildbin-libdir && mkdir scRecover.buildbin-libdir && F:\biocbuild\bbs-3.22-bioc\R\bin\R.exe CMD INSTALL --build --library=scRecover.buildbin-libdir scRecover_1.25.0.tar.gz StartedAt: 2025-08-15 11:16:35 -0400 (Fri, 15 Aug 2025) EndedAt: 2025-08-15 11:17:00 -0400 (Fri, 15 Aug 2025) EllapsedTime: 24.6 seconds RetCode: 0 Status: OK PackageFile: scRecover_1.25.0.zip PackageFileSize: 1.17 MiB