Package: scRecover Version: 1.27.0 Command: /home/biocbuild/bbs-3.23-bioc/R/bin/R CMD check --install=check:scRecover.install-out.txt --library=/home/biocbuild/bbs-3.23-bioc/R/site-library --timings scRecover_1.27.0.tar.gz StartedAt: 2025-11-15 03:53:19 -0500 (Sat, 15 Nov 2025) EndedAt: 2025-11-15 03:56:42 -0500 (Sat, 15 Nov 2025) EllapsedTime: 203.2 seconds RetCode: 0 Status: OK CheckDir: scRecover.Rcheck Warnings: 0