Package: scRecover Version: 1.27.0 Command: /home/biocbuild/bbs-3.23-bioc/R/bin/R CMD build --keep-empty-dirs --no-resave-data scRecover StartedAt: 2025-11-07 19:53:04 -0500 (Fri, 07 Nov 2025) EndedAt: 2025-11-07 19:54:43 -0500 (Fri, 07 Nov 2025) EllapsedTime: 99.1 seconds RetCode: 0 Status: OK PackageFile: scRecover_1.27.0.tar.gz PackageFileSize: 1.713 MiB