Package: scRecover Version: 1.25.0 Command: /Library/Frameworks/R.framework/Resources/bin/R CMD INSTALL scRecover StartedAt: 2025-09-21 15:09:29 -0400 (Sun, 21 Sep 2025) EndedAt: 2025-09-21 15:10:36 -0400 (Sun, 21 Sep 2025) EllapsedTime: 67.9 seconds RetCode: 0 Status: OK