Package: scReClassify Version: 1.17.0 Command: /home/biocbuild/bbs-3.23-bioc/R/bin/R CMD INSTALL scReClassify StartedAt: 2025-10-30 15:54:37 -0400 (Thu, 30 Oct 2025) EndedAt: 2025-10-30 15:54:58 -0400 (Thu, 30 Oct 2025) EllapsedTime: 21.2 seconds RetCode: 0 Status: OK