Package: scRNAseqApp Version: 1.9.26 Command: /Library/Frameworks/R.framework/Resources/bin/R CMD check --install=check:scRNAseqApp.install-out.txt --library=/Library/Frameworks/R.framework/Resources/library --no-vignettes --timings scRNAseqApp_1.9.26.tar.gz StartedAt: 2025-10-24 22:00:34 -0400 (Fri, 24 Oct 2025) EndedAt: 2025-10-24 22:03:06 -0400 (Fri, 24 Oct 2025) EllapsedTime: 151.7 seconds RetCode: 0 Status: OK CheckDir: scRNAseqApp.Rcheck Warnings: 0