Package: scQTLtools Version: 1.1.7 Command: /home/biocbuild/R/R/bin/R CMD INSTALL scQTLtools StartedAt: 2025-10-13 21:43:07 -0000 (Mon, 13 Oct 2025) EndedAt: 2025-10-13 21:44:00 -0000 (Mon, 13 Oct 2025) EllapsedTime: 53.1 seconds RetCode: 0 Status: OK