Package: scQTLtools Version: 1.1.7 Command: /home/biocbuild/R/R/bin/R CMD build --keep-empty-dirs --no-resave-data scQTLtools StartedAt: 2025-10-14 03:26:28 -0000 (Tue, 14 Oct 2025) EndedAt: 2025-10-14 03:28:48 -0000 (Tue, 14 Oct 2025) EllapsedTime: 140.0 seconds RetCode: 0 Status: OK PackageFile: scQTLtools_1.1.7.tar.gz PackageFileSize: 3.978 MiB