Package: scQTLtools Version: 1.1.7 Command: chmod a+r scQTLtools -R && F:\biocbuild\bbs-3.22-bioc\R\bin\R.exe CMD build --keep-empty-dirs --no-resave-data scQTLtools StartedAt: 2025-08-14 23:07:31 -0400 (Thu, 14 Aug 2025) EndedAt: 2025-08-14 23:09:52 -0400 (Thu, 14 Aug 2025) EllapsedTime: 140.1 seconds RetCode: 0 Status: OK PackageFile: scQTLtools_1.1.7.tar.gz PackageFileSize: 3.855 MiB