Package: scQTLtools Version: 1.1.7 Command: /home/biocbuild/bbs-3.22-bioc/R/bin/R CMD check --install=check:scQTLtools.install-out.txt --library=/home/biocbuild/bbs-3.22-bioc/R/site-library --timings scQTLtools_1.1.7.tar.gz StartedAt: 2025-10-06 04:08:57 -0400 (Mon, 06 Oct 2025) EndedAt: 2025-10-06 04:17:58 -0400 (Mon, 06 Oct 2025) EllapsedTime: 540.4 seconds RetCode: 1 Status: ERROR CheckDir: scQTLtools.Rcheck Warnings: NA