Package: scQTLtools Version: 1.3.0 Command: /home/biocbuild/bbs-3.23-bioc/R/bin/R CMD INSTALL scQTLtools StartedAt: 2025-11-05 16:03:29 -0500 (Wed, 05 Nov 2025) EndedAt: 2025-11-05 16:04:11 -0500 (Wed, 05 Nov 2025) EllapsedTime: 41.6 seconds RetCode: 0 Status: OK