Package: scQTLtools Version: 1.3.0 Command: /home/biocbuild/bbs-3.23-bioc/R/bin/R CMD build --keep-empty-dirs --no-resave-data scQTLtools StartedAt: 2025-11-05 19:56:25 -0500 (Wed, 05 Nov 2025) EndedAt: 2025-11-05 19:57:50 -0500 (Wed, 05 Nov 2025) EllapsedTime: 85.0 seconds RetCode: 0 Status: OK PackageFile: scQTLtools_1.3.0.tar.gz PackageFileSize: 4.118 MiB