Package: scPipe Version: 2.9.0 Command: /home/biocbuild/R/R/bin/R CMD INSTALL scPipe StartedAt: 2025-10-09 21:36:30 -0000 (Thu, 09 Oct 2025) EndedAt: 2025-10-09 21:39:29 -0000 (Thu, 09 Oct 2025) EllapsedTime: 179.3 seconds RetCode: 0 Status: OK