Package: scPipe Version: 2.9.0 Command: /home/biocbuild/R/R/bin/R CMD build --keep-empty-dirs --no-resave-data scPipe StartedAt: 2025-10-10 03:58:45 -0000 (Fri, 10 Oct 2025) EndedAt: 2025-10-10 04:04:34 -0000 (Fri, 10 Oct 2025) EllapsedTime: 349.1 seconds RetCode: 0 Status: OK PackageFile: scPipe_2.9.0.tar.gz PackageFileSize: 12.54 MiB