Package: scPipe Version: 2.9.0 Command: chmod a+r scPipe -R && F:\biocbuild\bbs-3.22-bioc\R\bin\R.exe CMD build --keep-empty-dirs --no-resave-data scPipe StartedAt: 2025-08-14 23:07:30 -0400 (Thu, 14 Aug 2025) EndedAt: 2025-08-14 23:13:32 -0400 (Thu, 14 Aug 2025) EllapsedTime: 362.0 seconds RetCode: 0 Status: OK PackageFile: scPipe_2.9.0.tar.gz PackageFileSize: 12.46 MiB