Package: scPipe Version: 2.9.0 Command: rm -rf scPipe.buildbin-libdir && mkdir scPipe.buildbin-libdir && F:\biocbuild\bbs-3.22-bioc\R\bin\R.exe CMD INSTALL --build --library=scPipe.buildbin-libdir scPipe_2.9.0.tar.gz StartedAt: 2025-08-15 11:16:22 -0400 (Fri, 15 Aug 2025) EndedAt: 2025-08-15 11:19:55 -0400 (Fri, 15 Aug 2025) EllapsedTime: 213.0 seconds RetCode: 0 Status: OK PackageFile: scPipe_2.9.0.zip PackageFileSize: 18.31 MiB