Package: scPipe Version: 2.11.0 Command: /home/biocbuild/bbs-3.23-bioc/R/bin/R CMD INSTALL scPipe StartedAt: 2025-11-02 15:39:57 -0500 (Sun, 02 Nov 2025) EndedAt: 2025-11-02 15:42:13 -0500 (Sun, 02 Nov 2025) EllapsedTime: 135.2 seconds RetCode: 0 Status: OK