Package: scPipe Version: 2.11.0 Command: /home/biocbuild/bbs-3.23-bioc/R/bin/R CMD check --install=check:scPipe.install-out.txt --library=/home/biocbuild/bbs-3.23-bioc/R/site-library --timings scPipe_2.11.0.tar.gz StartedAt: 2025-11-07 03:29:21 -0500 (Fri, 07 Nov 2025) EndedAt: 2025-11-07 03:37:39 -0500 (Fri, 07 Nov 2025) EllapsedTime: 498.4 seconds RetCode: 0 Status: OK CheckDir: scPipe.Rcheck Warnings: 0