Package: scPCA Version: 1.23.0 Command: chmod a+r scPCA -R && F:\biocbuild\bbs-3.22-bioc\R\bin\R.exe CMD build --keep-empty-dirs --no-resave-data scPCA StartedAt: 2025-08-14 23:07:24 -0400 (Thu, 14 Aug 2025) EndedAt: 2025-08-14 23:14:29 -0400 (Thu, 14 Aug 2025) EllapsedTime: 424.9 seconds RetCode: 0 Status: OK PackageFile: scPCA_1.23.0.tar.gz PackageFileSize: 871.8 KiB