Package: scPCA Version: 1.23.0 Command: /home/biocbuild/bbs-3.22-bioc/R/bin/R CMD check --install=check:scPCA.install-out.txt --library=/home/biocbuild/bbs-3.22-bioc/R/site-library --timings scPCA_1.23.0.tar.gz StartedAt: 2025-09-22 04:04:07 -0400 (Mon, 22 Sep 2025) EndedAt: 2025-09-22 04:11:40 -0400 (Mon, 22 Sep 2025) EllapsedTime: 452.4 seconds RetCode: 0 Status: OK CheckDir: scPCA.Rcheck Warnings: 0