Package: scPCA Version: 1.25.0 Command: /home/biocbuild/bbs-3.23-bioc/R/bin/R CMD INSTALL scPCA StartedAt: 2025-11-07 15:51:36 -0500 (Fri, 07 Nov 2025) EndedAt: 2025-11-07 15:52:03 -0500 (Fri, 07 Nov 2025) EllapsedTime: 26.6 seconds RetCode: 0 Status: OK