Package: scMultiSim Version: 1.7.0 Command: /home/biocbuild/bbs-3.23-bioc/R/bin/R CMD check --install=check:scMultiSim.install-out.txt --library=/home/biocbuild/bbs-3.23-bioc/R/site-library --timings scMultiSim_1.7.0.tar.gz StartedAt: 2025-11-06 03:38:06 -0500 (Thu, 06 Nov 2025) EndedAt: 2025-11-06 03:50:47 -0500 (Thu, 06 Nov 2025) EllapsedTime: 761.9 seconds RetCode: 0 Status: OK CheckDir: scMultiSim.Rcheck Warnings: 0