Package: scMitoMut Version: 1.5.0 Command: /home/biocbuild/R/R/bin/R CMD INSTALL scMitoMut StartedAt: 2025-10-02 20:25:26 -0000 (Thu, 02 Oct 2025) EndedAt: 2025-10-02 20:26:22 -0000 (Thu, 02 Oct 2025) EllapsedTime: 55.8 seconds RetCode: 0 Status: OK