Package: scMitoMut Version: 1.5.0 Command: /home/biocbuild/R/R/bin/R CMD build --keep-empty-dirs --no-resave-data scMitoMut StartedAt: 2025-10-03 03:00:15 -0000 (Fri, 03 Oct 2025) EndedAt: 2025-10-03 03:01:14 -0000 (Fri, 03 Oct 2025) EllapsedTime: 59.0 seconds RetCode: 0 Status: OK PackageFile: scMitoMut_1.5.0.tar.gz PackageFileSize: 1.059 MiB