Package: scMitoMut Version: 1.5.0 Command: chmod a+r scMitoMut -R && F:\biocbuild\bbs-3.22-bioc\R\bin\R.exe CMD build --keep-empty-dirs --no-resave-data scMitoMut StartedAt: 2025-08-14 23:05:53 -0400 (Thu, 14 Aug 2025) EndedAt: 2025-08-14 23:07:23 -0400 (Thu, 14 Aug 2025) EllapsedTime: 90.2 seconds RetCode: 0 Status: OK PackageFile: scMitoMut_1.5.0.tar.gz PackageFileSize: 984.4 KiB