Package: scMitoMut Version: 1.5.0 Command: /home/biocbuild/bbs-3.22-bioc/R/bin/R CMD check --install=check:scMitoMut.install-out.txt --library=/home/biocbuild/bbs-3.22-bioc/R/site-library --timings scMitoMut_1.5.0.tar.gz StartedAt: 2025-10-01 03:56:20 -0400 (Wed, 01 Oct 2025) EndedAt: 2025-10-01 03:57:45 -0400 (Wed, 01 Oct 2025) EllapsedTime: 85.1 seconds RetCode: 0 Status: OK CheckDir: scMitoMut.Rcheck Warnings: 0