Package: scMitoMut Version: 1.7.0 Command: /home/biocbuild/bbs-3.23-bioc/R/bin/R CMD check --install=check:scMitoMut.install-out.txt --library=/home/biocbuild/bbs-3.23-bioc/R/site-library --timings scMitoMut_1.7.0.tar.gz StartedAt: 2025-11-22 03:42:29 -0500 (Sat, 22 Nov 2025) EndedAt: 2025-11-22 03:43:53 -0500 (Sat, 22 Nov 2025) EllapsedTime: 84.1 seconds RetCode: 0 Status: OK CheckDir: scMitoMut.Rcheck Warnings: 0