Package: scMerge Version: 1.25.0 Command: /home/biocbuild/R/R/bin/R CMD INSTALL scMerge StartedAt: 2025-10-09 22:06:34 -0000 (Thu, 09 Oct 2025) EndedAt: 2025-10-09 22:07:36 -0000 (Thu, 09 Oct 2025) EllapsedTime: 61.9 seconds RetCode: 0 Status: OK