Package: scMerge Version: 1.25.0 Command: /home/biocbuild/R/R/bin/R CMD build --keep-empty-dirs --no-resave-data scMerge StartedAt: 2025-10-10 03:56:55 -0000 (Fri, 10 Oct 2025) EndedAt: 2025-10-10 03:58:24 -0000 (Fri, 10 Oct 2025) EllapsedTime: 89.1 seconds RetCode: 1 Status: ERROR PackageFile: None PackageFileSize: NA