Package: scMerge Version: 1.25.0 Command: chmod a+r scMerge -R && F:\biocbuild\bbs-3.22-bioc\R\bin\R.exe CMD build --keep-empty-dirs --no-resave-data scMerge StartedAt: 2025-08-14 23:04:54 -0400 (Thu, 14 Aug 2025) EndedAt: 2025-08-14 23:08:33 -0400 (Thu, 14 Aug 2025) EllapsedTime: 219.5 seconds RetCode: 0 Status: OK PackageFile: scMerge_1.25.0.tar.gz PackageFileSize: 2.561 MiB