Package: scMerge Version: 1.27.0 Command: /home/biocbuild/bbs-3.23-bioc/R/bin/R CMD INSTALL scMerge StartedAt: 2025-11-05 16:01:21 -0500 (Wed, 05 Nov 2025) EndedAt: 2025-11-05 16:02:03 -0500 (Wed, 05 Nov 2025) EllapsedTime: 41.3 seconds RetCode: 0 Status: OK